Package: shinyepico Version: 1.18.0 Command: /Library/Frameworks/R.framework/Resources/bin/R CMD INSTALL shinyepico StartedAt: 2025-11-02 15:45:15 -0500 (Sun, 02 Nov 2025) EndedAt: 2025-11-02 15:45:23 -0500 (Sun, 02 Nov 2025) EllapsedTime: 8.1 seconds RetCode: 0 Status: OK