Package: shinyepico Version: 1.18.0 Command: rm -rf shinyepico.buildbin-libdir && mkdir shinyepico.buildbin-libdir && /Users/biocbuild/BBS/utils/build-universal.sh shinyepico_1.18.0.tar.gz /Library/Frameworks/R.framework/Resources/bin/R shinyepico.buildbin-libdir StartedAt: 2025-11-01 01:57:59 -0400 (Sat, 01 Nov 2025) EndedAt: 2025-11-01 01:58:11 -0400 (Sat, 01 Nov 2025) EllapsedTime: 11.5 seconds RetCode: 0 Status: OK PackageFile: shinyepico_1.18.0.tgz PackageFileSize: 1.468 MiB