Package: shinyepico Version: 1.16.0 Command: /home/biocbuild/R/R/bin/R CMD INSTALL shinyepico StartedAt: 2025-10-13 20:56:53 -0000 (Mon, 13 Oct 2025) EndedAt: 2025-10-13 20:56:59 -0000 (Mon, 13 Oct 2025) EllapsedTime: 6.5 seconds RetCode: 0 Status: OK