Package: shinybiocloader Version: 1.0.0 Command: /home/biocbuild/R/R/bin/R CMD INSTALL shinybiocloader StartedAt: 2025-11-10 21:11:22 -0000 (Mon, 10 Nov 2025) EndedAt: 2025-11-10 21:12:22 -0000 (Mon, 10 Nov 2025) EllapsedTime: 59.9 seconds RetCode: 0 Status: OK