Package: shinybiocloader Version: 1.0.0 Command: /home/biocbuild/R/R/bin/R CMD build --keep-empty-dirs --no-resave-data shinybiocloader StartedAt: 2025-11-11 05:10:34 -0000 (Tue, 11 Nov 2025) EndedAt: 2025-11-11 05:10:46 -0000 (Tue, 11 Nov 2025) EllapsedTime: 12.0 seconds RetCode: 0 Status: OK PackageFile: shinybiocloader_1.0.0.tar.gz PackageFileSize: 28.65 KiB