Package: shinybiocloader Version: 1.0.0 Command: /home/biocbuild/bbs-3.22-bioc/R/bin/R CMD check --install=check:shinybiocloader.install-out.txt --library=/home/biocbuild/bbs-3.22-bioc/R/site-library --timings shinybiocloader_1.0.0.tar.gz StartedAt: 2025-11-12 04:07:56 -0500 (Wed, 12 Nov 2025) EndedAt: 2025-11-12 04:08:26 -0500 (Wed, 12 Nov 2025) EllapsedTime: 30.0 seconds RetCode: 0 Status: OK CheckDir: shinybiocloader.Rcheck Warnings: 0