Package: shinybiocloader Version: 1.0.0 Command: /Library/Frameworks/R.framework/Resources/bin/R CMD check --install=check:shinybiocloader.install-out.txt --library=/Library/Frameworks/R.framework/Resources/library --no-vignettes --timings shinybiocloader_1.0.0.tar.gz StartedAt: 2025-11-04 00:17:21 -0500 (Tue, 04 Nov 2025) EndedAt: 2025-11-04 00:17:58 -0500 (Tue, 04 Nov 2025) EllapsedTime: 36.6 seconds RetCode: 0 Status: OK CheckDir: shinybiocloader.Rcheck Warnings: 0