Package: shinybiocloader Version: 1.0.0 Command: /Library/Frameworks/R.framework/Resources/bin/R CMD INSTALL shinybiocloader StartedAt: 2025-11-10 15:04:36 -0500 (Mon, 10 Nov 2025) EndedAt: 2025-11-10 15:04:52 -0500 (Mon, 10 Nov 2025) EllapsedTime: 15.5 seconds RetCode: 0 Status: OK