Package: shinybiocloader Version: 1.0.0 Command: /Library/Frameworks/R.framework/Resources/bin/R CMD check --install=check:shinybiocloader.install-out.txt --library=/Library/Frameworks/R.framework/Resources/library --no-vignettes --timings shinybiocloader_1.0.0.tar.gz StartedAt: 2025-11-10 22:21:51 -0500 (Mon, 10 Nov 2025) EndedAt: 2025-11-10 22:22:06 -0500 (Mon, 10 Nov 2025) EllapsedTime: 14.2 seconds RetCode: 0 Status: OK CheckDir: shinybiocloader.Rcheck Warnings: 0