Package: shinybiocloader Version: 1.0.0 Command: /Library/Frameworks/R.framework/Resources/bin/R CMD build --keep-empty-dirs --no-resave-data shinybiocloader StartedAt: 2025-11-10 17:45:12 -0500 (Mon, 10 Nov 2025) EndedAt: 2025-11-10 17:45:16 -0500 (Mon, 10 Nov 2025) EllapsedTime: 4.1 seconds RetCode: 0 Status: OK PackageFile: shinybiocloader_1.0.0.tar.gz PackageFileSize: 28.59 KiB