Package: shinybiocloader Version: 1.0.0 Command: rm -rf shinybiocloader.buildbin-libdir && mkdir shinybiocloader.buildbin-libdir && /Users/biocbuild/BBS/utils/build-universal.sh shinybiocloader_1.0.0.tar.gz /Library/Frameworks/R.framework/Resources/bin/R shinybiocloader.buildbin-libdir StartedAt: 2025-11-10 23:36:49 -0500 (Mon, 10 Nov 2025) EndedAt: 2025-11-10 23:36:51 -0500 (Mon, 10 Nov 2025) EllapsedTime: 2.1 seconds RetCode: 0 Status: OK PackageFile: shinybiocloader_1.0.0.tgz PackageFileSize: 37.57 KiB