Package: shinyMethyl Version: 1.46.0 Command: /home/biocbuild/bbs-3.22-bioc/R/bin/R CMD check --install=check:shinyMethyl.install-out.txt --library=/home/biocbuild/bbs-3.22-bioc/R/site-library --timings shinyMethyl_1.46.0.tar.gz StartedAt: 2025-11-15 04:22:23 -0500 (Sat, 15 Nov 2025) EndedAt: 2025-11-15 04:28:43 -0500 (Sat, 15 Nov 2025) EllapsedTime: 379.4 seconds RetCode: 0 Status: OK CheckDir: shinyMethyl.Rcheck Warnings: 0