Package: shinyMethyl Version: 1.46.0 Command: /home/biocbuild/bbs-3.22-bioc/R/bin/R CMD build --keep-empty-dirs --no-resave-data --md5 shinyMethyl StartedAt: 2025-11-11 20:13:03 -0500 (Tue, 11 Nov 2025) EndedAt: 2025-11-11 20:14:10 -0500 (Tue, 11 Nov 2025) EllapsedTime: 67.1 seconds RetCode: 0 Status: OK PackageFile: shinyMethyl_1.46.0.tar.gz PackageFileSize: 7.244 MiB