Package: shinyMethyl Version: 1.46.0 Command: /Library/Frameworks/R.framework/Resources/bin/R CMD INSTALL shinyMethyl StartedAt: 2025-11-03 15:43:00 -0500 (Mon, 03 Nov 2025) EndedAt: 2025-11-03 15:44:02 -0500 (Mon, 03 Nov 2025) EllapsedTime: 61.9 seconds RetCode: 0 Status: OK