Package: shinyMethyl Version: 1.46.0 Command: rm -rf shinyMethyl.buildbin-libdir && mkdir shinyMethyl.buildbin-libdir && /Users/biocbuild/BBS/utils/build-universal.sh shinyMethyl_1.46.0.tar.gz /Library/Frameworks/R.framework/Resources/bin/R shinyMethyl.buildbin-libdir StartedAt: 2025-11-04 02:04:28 -0500 (Tue, 04 Nov 2025) EndedAt: 2025-11-04 02:05:31 -0500 (Tue, 04 Nov 2025) EllapsedTime: 63.3 seconds RetCode: 0 Status: OK PackageFile: shinyMethyl_1.46.0.tgz PackageFileSize: 2.429 MiB