Package: shinyMethyl Version: 1.44.0 Command: /home/biocbuild/R/R/bin/R CMD INSTALL shinyMethyl StartedAt: 2025-10-13 20:56:43 -0000 (Mon, 13 Oct 2025) EndedAt: 2025-10-13 20:57:48 -0000 (Mon, 13 Oct 2025) EllapsedTime: 64.2 seconds RetCode: 0 Status: OK