Package: shinyDSP Version: 1.2.0 Command: /home/biocbuild/R/R/bin/R CMD INSTALL shinyDSP StartedAt: 2025-11-13 22:06:34 -0000 (Thu, 13 Nov 2025) EndedAt: 2025-11-13 22:07:25 -0000 (Thu, 13 Nov 2025) EllapsedTime: 50.4 seconds RetCode: 0 Status: OK