Package: shinyDSP Version: 1.2.0 Command: /home/biocbuild/R/R/bin/R CMD build --keep-empty-dirs --no-resave-data shinyDSP StartedAt: 2025-11-11 05:10:43 -0000 (Tue, 11 Nov 2025) EndedAt: 2025-11-11 05:17:18 -0000 (Tue, 11 Nov 2025) EllapsedTime: 395.2 seconds RetCode: 0 Status: OK PackageFile: shinyDSP_1.2.0.tar.gz PackageFileSize: 2.485 MiB