Package: shinyDSP Version: 1.2.0 Command: /home/biocbuild/bbs-3.22-bioc/R/bin/R CMD INSTALL shinyDSP StartedAt: 2025-11-11 16:01:14 -0500 (Tue, 11 Nov 2025) EndedAt: 2025-11-11 16:01:53 -0500 (Tue, 11 Nov 2025) EllapsedTime: 39.4 seconds RetCode: 0 Status: OK