Package: shinyDSP Version: 1.2.0 Command: /home/biocbuild/bbs-3.22-bioc/R/bin/R CMD check --install=check:shinyDSP.install-out.txt --library=/home/biocbuild/bbs-3.22-bioc/R/site-library --timings shinyDSP_1.2.0.tar.gz StartedAt: 2025-11-14 04:09:47 -0500 (Fri, 14 Nov 2025) EndedAt: 2025-11-14 04:19:24 -0500 (Fri, 14 Nov 2025) EllapsedTime: 576.5 seconds RetCode: 0 Status: OK CheckDir: shinyDSP.Rcheck Warnings: 0