Package: shinyDSP Version: 1.0.3 Command: /home/biocbuild/bbs-3.21-bioc/R/bin/R CMD INSTALL shinyDSP StartedAt: 2025-09-28 16:08:58 -0400 (Sun, 28 Sep 2025) EndedAt: 2025-09-28 16:09:37 -0400 (Sun, 28 Sep 2025) EllapsedTime: 39.3 seconds RetCode: 0 Status: OK