Package: shinyDSP Version: 1.0.3 Command: /home/biocbuild/bbs-3.21-bioc/R/bin/R CMD build --keep-empty-dirs --no-resave-data shinyDSP StartedAt: 2025-09-28 20:06:18 -0400 (Sun, 28 Sep 2025) EndedAt: 2025-09-28 20:11:29 -0400 (Sun, 28 Sep 2025) EllapsedTime: 311.3 seconds RetCode: 0 Status: OK PackageFile: shinyDSP_1.0.3.tar.gz PackageFileSize: 2.678 MiB