Package: shinyDSP Version: 1.0.3 Command: /Library/Frameworks/R.framework/Resources/bin/R CMD build --keep-empty-dirs --no-resave-data shinyDSP StartedAt: 2025-10-09 22:40:48 -0400 (Thu, 09 Oct 2025) EndedAt: 2025-10-09 22:51:17 -0400 (Thu, 09 Oct 2025) EllapsedTime: 629.2 seconds RetCode: 0 Status: OK PackageFile: shinyDSP_1.0.3.tar.gz PackageFileSize: 2.655 MiB