Package: shinyDSP Version: 1.0.3 Command: /home/biocbuild/R/R/bin/R CMD INSTALL shinyDSP StartedAt: 2025-09-25 21:15:09 -0000 (Thu, 25 Sep 2025) EndedAt: 2025-09-25 21:16:01 -0000 (Thu, 25 Sep 2025) EllapsedTime: 52.2 seconds RetCode: 0 Status: OK