Package: shinyDSP Version: 1.0.3 Command: /home/biocbuild/R/R/bin/R CMD build --keep-empty-dirs --no-resave-data shinyDSP StartedAt: 2025-09-26 05:58:44 -0000 (Fri, 26 Sep 2025) EndedAt: 2025-09-26 06:06:45 -0000 (Fri, 26 Sep 2025) EllapsedTime: 481.2 seconds RetCode: 0 Status: OK PackageFile: shinyDSP_1.0.3.tar.gz PackageFileSize: 2.744 MiB