Package: shinyDSP Version: 1.0.3 Command: /Library/Frameworks/R.framework/Resources/bin/R CMD build --keep-empty-dirs --no-resave-data shinyDSP StartedAt: 2025-09-26 09:11:12 -0400 (Fri, 26 Sep 2025) EndedAt: 2025-09-26 09:18:25 -0400 (Fri, 26 Sep 2025) EllapsedTime: 433.3 seconds RetCode: 0 Status: OK PackageFile: shinyDSP_1.0.3.tar.gz PackageFileSize: 2.656 MiB