Package: shiny.gosling Version: 1.6.0 Command: /home/biocbuild/bbs-3.22-bioc/R/bin/R CMD INSTALL shiny.gosling StartedAt: 2025-11-13 15:10:11 -0500 (Thu, 13 Nov 2025) EndedAt: 2025-11-13 15:10:23 -0500 (Thu, 13 Nov 2025) EllapsedTime: 12.3 seconds RetCode: 0 Status: OK