Package: shiny.gosling Version: 1.6.0 Command: /Library/Frameworks/R.framework/Resources/bin/R CMD INSTALL shiny.gosling StartedAt: 2025-11-10 15:05:34 -0500 (Mon, 10 Nov 2025) EndedAt: 2025-11-10 15:05:39 -0500 (Mon, 10 Nov 2025) EllapsedTime: 5.0 seconds RetCode: 0 Status: OK