Package: shiny.gosling Version: 1.6.0 Command: /Library/Frameworks/R.framework/Resources/bin/R CMD build --keep-empty-dirs --no-resave-data shiny.gosling StartedAt: 2025-11-10 17:45:11 -0500 (Mon, 10 Nov 2025) EndedAt: 2025-11-10 17:45:23 -0500 (Mon, 10 Nov 2025) EllapsedTime: 12.2 seconds RetCode: 1 Status: ERROR PackageFile: None PackageFileSize: NA