Package: sevenbridges Version: 1.40.0 Command: /home/biocbuild/bbs-3.22-bioc/R/bin/R CMD INSTALL sevenbridges StartedAt: 2025-11-13 15:13:32 -0500 (Thu, 13 Nov 2025) EndedAt: 2025-11-13 15:13:57 -0500 (Thu, 13 Nov 2025) EllapsedTime: 24.9 seconds RetCode: 0 Status: OK