Package: sevenbridges Version: 1.40.0 Command: /home/biocbuild/bbs-3.22-bioc/R/bin/R CMD build --keep-empty-dirs --no-resave-data --md5 sevenbridges StartedAt: 2025-11-13 20:10:49 -0500 (Thu, 13 Nov 2025) EndedAt: 2025-11-13 20:12:14 -0500 (Thu, 13 Nov 2025) EllapsedTime: 85.1 seconds RetCode: 0 Status: OK PackageFile: sevenbridges_1.40.0.tar.gz PackageFileSize: 4.661 MiB