Package: sevenC Version: 1.28.0 Command: /home/biocbuild/R/R/bin/R CMD INSTALL sevenC StartedAt: 2025-10-13 20:41:33 -0000 (Mon, 13 Oct 2025) EndedAt: 2025-10-13 20:42:05 -0000 (Mon, 13 Oct 2025) EllapsedTime: 32.2 seconds RetCode: 0 Status: OK