Package: sevenC Version: 1.28.0 Command: /home/biocbuild/R/R/bin/R CMD build --keep-empty-dirs --no-resave-data sevenC StartedAt: 2025-10-14 04:41:30 -0000 (Tue, 14 Oct 2025) EndedAt: 2025-10-14 04:42:58 -0000 (Tue, 14 Oct 2025) EllapsedTime: 88.1 seconds RetCode: 0 Status: OK PackageFile: sevenC_1.28.0.tar.gz PackageFileSize: 1.997 MiB