Package: sevenC Version: 1.30.0 Command: /Library/Frameworks/R.framework/Resources/bin/R CMD build --keep-empty-dirs --no-resave-data sevenC StartedAt: 2025-11-10 17:44:52 -0500 (Mon, 10 Nov 2025) EndedAt: 2025-11-10 17:45:14 -0500 (Mon, 10 Nov 2025) EllapsedTime: 21.2 seconds RetCode: 0 Status: OK PackageFile: sevenC_1.30.0.tar.gz PackageFileSize: 1.934 MiB