Package: sevenC Version: 1.30.0 Command: rm -rf sevenC.buildbin-libdir && mkdir sevenC.buildbin-libdir && /Users/biocbuild/BBS/utils/build-universal.sh sevenC_1.30.0.tar.gz /Library/Frameworks/R.framework/Resources/bin/R sevenC.buildbin-libdir StartedAt: 2025-11-10 23:36:45 -0500 (Mon, 10 Nov 2025) EndedAt: 2025-11-10 23:36:56 -0500 (Mon, 10 Nov 2025) EllapsedTime: 10.2 seconds RetCode: 0 Status: OK PackageFile: sevenC_1.30.0.tgz PackageFileSize: 2.045 MiB