Package: sesame Version: 1.28.0 Command: /home/biocbuild/R/R/bin/R CMD INSTALL sesame StartedAt: 2025-11-13 21:34:49 -0000 (Thu, 13 Nov 2025) EndedAt: 2025-11-13 21:35:38 -0000 (Thu, 13 Nov 2025) EllapsedTime: 48.2 seconds RetCode: 0 Status: OK