Package: sesame Version: 1.28.0 Command: /home/biocbuild/R/R/bin/R CMD build --keep-empty-dirs --no-resave-data sesame StartedAt: 2025-11-14 05:21:01 -0000 (Fri, 14 Nov 2025) EndedAt: 2025-11-14 05:27:16 -0000 (Fri, 14 Nov 2025) EllapsedTime: 375.4 seconds RetCode: 0 Status: OK PackageFile: sesame_1.28.0.tar.gz PackageFileSize: 16.92 MiB