Package: sesame Version: 1.28.0 Command: /home/biocbuild/bbs-3.22-bioc/R/bin/R CMD INSTALL sesame StartedAt: 2025-11-11 15:31:23 -0500 (Tue, 11 Nov 2025) EndedAt: 2025-11-11 15:31:58 -0500 (Tue, 11 Nov 2025) EllapsedTime: 35.1 seconds RetCode: 0 Status: OK