Package: sesame Version: 1.28.0 Command: /home/biocbuild/bbs-3.22-bioc/R/bin/R CMD check --install=check:sesame.install-out.txt --library=/home/biocbuild/bbs-3.22-bioc/R/site-library --timings sesame_1.28.0.tar.gz StartedAt: 2025-11-12 04:07:00 -0500 (Wed, 12 Nov 2025) EndedAt: 2025-11-12 04:23:55 -0500 (Wed, 12 Nov 2025) EllapsedTime: 1015.0 seconds RetCode: 0 Status: OK CheckDir: sesame.Rcheck Warnings: 0