Package: sesame Version: 1.28.0 Command: /home/biocbuild/bbs-3.22-bioc/R/bin/R CMD build --keep-empty-dirs --no-resave-data --md5 sesame StartedAt: 2025-11-11 20:11:56 -0500 (Tue, 11 Nov 2025) EndedAt: 2025-11-11 20:16:21 -0500 (Tue, 11 Nov 2025) EllapsedTime: 265.2 seconds RetCode: 0 Status: OK PackageFile: sesame_1.28.0.tar.gz PackageFileSize: 16.24 MiB