Package: sesame Version: 1.26.0 Command: /home/biocbuild/bbs-3.21-bioc/R/bin/R CMD build --keep-empty-dirs --no-resave-data sesame StartedAt: 2025-10-15 19:53:10 -0400 (Wed, 15 Oct 2025) EndedAt: 2025-10-15 19:57:32 -0400 (Wed, 15 Oct 2025) EllapsedTime: 262.3 seconds RetCode: 0 Status: OK PackageFile: sesame_1.26.0.tar.gz PackageFileSize: 16.22 MiB