Package: sesame Version: 1.26.0 Command: /Library/Frameworks/R.framework/Resources/bin/R CMD INSTALL sesame StartedAt: 2025-10-13 16:23:42 -0400 (Mon, 13 Oct 2025) EndedAt: 2025-10-13 16:24:23 -0400 (Mon, 13 Oct 2025) EllapsedTime: 40.8 seconds RetCode: 0 Status: OK