Package: sesame Version: 1.26.0 Command: /Library/Frameworks/R.framework/Resources/bin/R CMD build --keep-empty-dirs --no-resave-data sesame StartedAt: 2025-10-14 09:22:13 -0400 (Tue, 14 Oct 2025) EndedAt: 2025-10-14 09:28:45 -0400 (Tue, 14 Oct 2025) EllapsedTime: 392.8 seconds RetCode: 0 Status: OK PackageFile: sesame_1.26.0.tar.gz PackageFileSize: 16.25 MiB