Package: seqsetvis Version: 1.28.0 Command: /home/biocbuild/R/R/bin/R CMD build --keep-empty-dirs --no-resave-data seqsetvis StartedAt: 2025-10-14 04:40:01 -0000 (Tue, 14 Oct 2025) EndedAt: 2025-10-14 04:41:58 -0000 (Tue, 14 Oct 2025) EllapsedTime: 117.1 seconds RetCode: 0 Status: OK PackageFile: seqsetvis_1.28.0.tar.gz PackageFileSize: 1.966 MiB