Package: seqsetvis Version: 1.30.0 Command: /Library/Frameworks/R.framework/Resources/bin/R CMD INSTALL seqsetvis StartedAt: 2025-11-03 15:18:39 -0500 (Mon, 03 Nov 2025) EndedAt: 2025-11-03 15:18:54 -0500 (Mon, 03 Nov 2025) EllapsedTime: 15.2 seconds RetCode: 0 Status: OK