Package: seqsetvis Version: 1.30.0 Command: /Library/Frameworks/R.framework/Resources/bin/R CMD build --keep-empty-dirs --no-resave-data seqsetvis StartedAt: 2025-11-02 17:43:36 -0500 (Sun, 02 Nov 2025) EndedAt: 2025-11-02 17:44:10 -0500 (Sun, 02 Nov 2025) EllapsedTime: 34.4 seconds RetCode: 0 Status: OK PackageFile: seqsetvis_1.30.0.tar.gz PackageFileSize: 2.067 MiB