Package: seqcombo Version: 1.30.0 Command: /home/biocbuild/R/R/bin/R CMD INSTALL seqcombo StartedAt: 2025-10-13 20:18:44 -0000 (Mon, 13 Oct 2025) EndedAt: 2025-10-13 20:19:11 -0000 (Mon, 13 Oct 2025) EllapsedTime: 26.4 seconds RetCode: 0 Status: OK