Package: seqcombo Version: 1.32.0 Command: /Library/Frameworks/R.framework/Resources/bin/R CMD INSTALL seqcombo StartedAt: 2025-11-10 15:04:28 -0500 (Mon, 10 Nov 2025) EndedAt: 2025-11-10 15:04:33 -0500 (Mon, 10 Nov 2025) EllapsedTime: 5.3 seconds RetCode: 0 Status: OK