Package: seqcombo Version: 1.32.0 Command: /Library/Frameworks/R.framework/Resources/bin/R CMD build --keep-empty-dirs --no-resave-data seqcombo StartedAt: 2025-11-10 17:44:09 -0500 (Mon, 10 Nov 2025) EndedAt: 2025-11-10 17:44:16 -0500 (Mon, 10 Nov 2025) EllapsedTime: 7.1 seconds RetCode: 0 Status: OK PackageFile: seqcombo_1.32.0.tar.gz PackageFileSize: 1.189 MiB