Package: seqTools Version: 1.44.0 Command: /home/biocbuild/R/R/bin/R CMD build --keep-empty-dirs --no-resave-data seqTools StartedAt: 2025-11-14 05:20:36 -0000 (Fri, 14 Nov 2025) EndedAt: 2025-11-14 05:20:37 -0000 (Fri, 14 Nov 2025) EllapsedTime: 1.0 seconds RetCode: 1 Status: ERROR PackageFile: None PackageFileSize: NA